BEGIN:VCALENDAR
VERSION:2.0
PRODID:-//Vitaja - ECPv6.15.20//NONSGML v1.0//EN
CALSCALE:GREGORIAN
METHOD:PUBLISH
X-WR-CALNAME:Vitaja
X-ORIGINAL-URL:https://www.vitaja.sk
X-WR-CALDESC:Udalosti pre Vitaja
REFRESH-INTERVAL;VALUE=DURATION:PT1H
X-Robots-Tag:noindex
X-PUBLISHED-TTL:PT1H
BEGIN:VTIMEZONE
TZID:Europe/Bratislava
BEGIN:DAYLIGHT
TZOFFSETFROM:+0100
TZOFFSETTO:+0200
TZNAME:CEST
DTSTART:20240331T010000
END:DAYLIGHT
BEGIN:STANDARD
TZOFFSETFROM:+0200
TZOFFSETTO:+0100
TZNAME:CET
DTSTART:20241027T010000
END:STANDARD
BEGIN:DAYLIGHT
TZOFFSETFROM:+0100
TZOFFSETTO:+0200
TZNAME:CEST
DTSTART:20250330T010000
END:DAYLIGHT
BEGIN:STANDARD
TZOFFSETFROM:+0200
TZOFFSETTO:+0100
TZNAME:CET
DTSTART:20251026T010000
END:STANDARD
BEGIN:DAYLIGHT
TZOFFSETFROM:+0100
TZOFFSETTO:+0200
TZNAME:CEST
DTSTART:20260329T010000
END:DAYLIGHT
BEGIN:STANDARD
TZOFFSETFROM:+0200
TZOFFSETTO:+0100
TZNAME:CET
DTSTART:20261025T010000
END:STANDARD
END:VTIMEZONE
BEGIN:VEVENT
DTSTART;TZID=Europe/Bratislava:20251209T170000
DTEND;TZID=Europe/Bratislava:20251209T200000
DTSTAMP:20260425T183837
CREATED:20251201T151349Z
LAST-MODIFIED:20251201T151455Z
UID:2903-1765299600-1765310400@www.vitaja.sk
SUMMARY:KnihoUMKa
DESCRIPTION:Na poslednej tohtoročnej KnihoUMKe sa necháme inšpirovať japonským tajomstvom šťastného a dlhého života. \nBudeme opäť skúmať svoje vnútro\, to\, v čom sme dobrí\, čo milujeme\, čo svet potrebuje a za čo môžeme dostať zaplatené. A hádam objavíme svoje osobné ikigai „dôvod\, prečo ráno vstávame.“ Čítame svetový bestseller IKIGAI\, Héctor García & Francesc Mirralles. \nV centre Vitaja\, Gunduličova 8 v Bratislave\, v utorok 9.12.2025 o 17.00 hod. nás spojí to\, čo milujeme\, naša vášeň ku knihám. \n 
URL:https://www.vitaja.sk/udalost/knihoumka-4/
LOCATION:Kreatívne centrum Vitaja\, Gunduličova 8\, Bratislava\, Slovakia (Slovak Republic)
CATEGORIES:KnihoUMKa
ATTACH;FMTTYPE=image/jpeg:https://www.vitaja.sk/wp-content/uploads/2025/12/KnihoUMKa-5.jpg
END:VEVENT
END:VCALENDAR