BEGIN:VCALENDAR
VERSION:2.0
PRODID:-//Vitaja - ECPv6.15.20//NONSGML v1.0//EN
CALSCALE:GREGORIAN
METHOD:PUBLISH
X-WR-CALNAME:Vitaja
X-ORIGINAL-URL:https://www.vitaja.sk
X-WR-CALDESC:Udalosti pre Vitaja
REFRESH-INTERVAL;VALUE=DURATION:PT1H
X-Robots-Tag:noindex
X-PUBLISHED-TTL:PT1H
BEGIN:VTIMEZONE
TZID:Europe/Bratislava
BEGIN:DAYLIGHT
TZOFFSETFROM:+0100
TZOFFSETTO:+0200
TZNAME:CEST
DTSTART:20250330T010000
END:DAYLIGHT
BEGIN:STANDARD
TZOFFSETFROM:+0200
TZOFFSETTO:+0100
TZNAME:CET
DTSTART:20251026T010000
END:STANDARD
BEGIN:DAYLIGHT
TZOFFSETFROM:+0100
TZOFFSETTO:+0200
TZNAME:CEST
DTSTART:20260329T010000
END:DAYLIGHT
BEGIN:STANDARD
TZOFFSETFROM:+0200
TZOFFSETTO:+0100
TZNAME:CET
DTSTART:20261025T010000
END:STANDARD
BEGIN:DAYLIGHT
TZOFFSETFROM:+0100
TZOFFSETTO:+0200
TZNAME:CEST
DTSTART:20270328T010000
END:DAYLIGHT
BEGIN:STANDARD
TZOFFSETFROM:+0200
TZOFFSETTO:+0100
TZNAME:CET
DTSTART:20271031T010000
END:STANDARD
END:VTIMEZONE
BEGIN:VEVENT
DTSTART;TZID=Europe/Bratislava:20260311T170000
DTEND;TZID=Europe/Bratislava:20260311T190000
DTSTAMP:20260425T184024
CREATED:20260115T143135Z
LAST-MODIFIED:20260115T145831Z
UID:2929-1773248400-1773255600@www.vitaja.sk
SUMMARY:SebaLab – Laboratórium vnútorného rastu
DESCRIPTION:Cyklus workshopov MYŠLIENKY A EMÓCIE \n„Emócie nie sú nepriateľ!“ prvá téma zo série rozprávaní o vzťahu emócií a racionality. \nMnohí máme presvedčenie\, že prejaviť emócie je slabosť. Snažíme sa ich ovládať a potláčať. Všetci to robíme od malička\, tak sme sa to naučili. Máme ochrannú masku a na nej občas neprirodzený úsmev. Na prejavenie svojej podstaty potrebujeme bezpečie. Horšie je\, ak si ich nepriznávame ani sami pred sebou a pritom strácame ich významné signály. \n📅 Začíname 11.3.2026 17:00 – 19:00 \nKreatívne centrum Vitaja  Gunduličova 8 Bratislava \nvstupné dobrovoľné \n👉Mám záujem \n 
URL:https://www.vitaja.sk/udalost/sebalab-laboratorium-vnutorneho-rastu-1_26/
CATEGORIES:SebaLab
ATTACH;FMTTYPE=image/jpeg:https://www.vitaja.sk/wp-content/uploads/2026/01/KnihoUMKa-13.03.2025-o-17.00-hod.-Vitaja-Gundulicova-8-v-Bratislave-1.jpg
ORGANIZER;CN="Meno oraganiz%C3%A1tora":MAILTO:email@organizatora.sk
END:VEVENT
END:VCALENDAR