BEGIN:VCALENDAR
VERSION:2.0
PRODID:-//Vitaja - ECPv6.15.20//NONSGML v1.0//EN
CALSCALE:GREGORIAN
METHOD:PUBLISH
X-WR-CALNAME:Vitaja
X-ORIGINAL-URL:https://www.vitaja.sk
X-WR-CALDESC:Udalosti pre Vitaja
REFRESH-INTERVAL;VALUE=DURATION:PT1H
X-Robots-Tag:noindex
X-PUBLISHED-TTL:PT1H
BEGIN:VTIMEZONE
TZID:Europe/Bratislava
BEGIN:DAYLIGHT
TZOFFSETFROM:+0100
TZOFFSETTO:+0200
TZNAME:CEST
DTSTART:20250330T010000
END:DAYLIGHT
BEGIN:STANDARD
TZOFFSETFROM:+0200
TZOFFSETTO:+0100
TZNAME:CET
DTSTART:20251026T010000
END:STANDARD
BEGIN:DAYLIGHT
TZOFFSETFROM:+0100
TZOFFSETTO:+0200
TZNAME:CEST
DTSTART:20260329T010000
END:DAYLIGHT
BEGIN:STANDARD
TZOFFSETFROM:+0200
TZOFFSETTO:+0100
TZNAME:CET
DTSTART:20261025T010000
END:STANDARD
BEGIN:DAYLIGHT
TZOFFSETFROM:+0100
TZOFFSETTO:+0200
TZNAME:CEST
DTSTART:20270328T010000
END:DAYLIGHT
BEGIN:STANDARD
TZOFFSETFROM:+0200
TZOFFSETTO:+0100
TZNAME:CET
DTSTART:20271031T010000
END:STANDARD
END:VTIMEZONE
BEGIN:VEVENT
DTSTART;TZID=Europe/Bratislava:20260415T170000
DTEND;TZID=Europe/Bratislava:20260415T190000
DTSTAMP:20260425T183149
CREATED:20260410T143643Z
LAST-MODIFIED:20260410T143911Z
UID:2982-1776272400-1776279600@www.vitaja.sk
SUMMARY:SebaLab – Laboratórium vnútorného rastu
DESCRIPTION:Cyklus workshopov MYŠLIENKY A EMÓCIE \n„Spoznaj čo cítiš“ druhá téma zo série rozprávaní o vzťahu emócií a racionality. \nSebauvedomovanie: \n\nrozpoznávanie vlastných emócií (čo presne cítim a prečo)\nrozdiel medzi pocitmi\, myšlienkami a reakciami\n\nJournaling – cvičenie na popísanie emócií \nVyjadrovanie emócií: \n\nako hovoriť o svojich pocitoch bez konfliktu\nasertívna komunikácia („ja-výroky“)\nnastavovanie hraníc\n\n📅 Začíname 15.4.2026 17:00 – 19:00 \nKreatívne centrum Vitaja  Gunduličova 8 Bratislava \nvstupné dobrovoľné \n👉Mám záujem \n 
URL:https://www.vitaja.sk/udalost/sebalab-laboratorium-vnutorneho-rastu-3-2/
LOCATION:Kreatívne centrum Vitaja\, Gunduličova 8\, Bratislava\, Slovakia (Slovak Republic)
CATEGORIES:SebaLab
ATTACH;FMTTYPE=image/jpeg:https://www.vitaja.sk/wp-content/uploads/2026/04/KnihoUMKa-13.03.2025-o-17.00-hod.-Vitaja-Gundulicova-8-v-Bratislave-4.jpg
ORGANIZER;CN="Meno oraganiz%C3%A1tora":MAILTO:email@organizatora.sk
END:VEVENT
END:VCALENDAR