BEGIN:VCALENDAR
VERSION:2.0
PRODID:-//Vitaja - ECPv6.15.20//NONSGML v1.0//EN
CALSCALE:GREGORIAN
METHOD:PUBLISH
X-WR-CALNAME:Vitaja
X-ORIGINAL-URL:https://www.vitaja.sk
X-WR-CALDESC:Udalosti pre Vitaja
REFRESH-INTERVAL;VALUE=DURATION:PT1H
X-Robots-Tag:noindex
X-PUBLISHED-TTL:PT1H
BEGIN:VTIMEZONE
TZID:Europe/Bratislava
BEGIN:DAYLIGHT
TZOFFSETFROM:+0100
TZOFFSETTO:+0200
TZNAME:CEST
DTSTART:20240331T010000
END:DAYLIGHT
BEGIN:STANDARD
TZOFFSETFROM:+0200
TZOFFSETTO:+0100
TZNAME:CET
DTSTART:20241027T010000
END:STANDARD
BEGIN:DAYLIGHT
TZOFFSETFROM:+0100
TZOFFSETTO:+0200
TZNAME:CEST
DTSTART:20250330T010000
END:DAYLIGHT
BEGIN:STANDARD
TZOFFSETFROM:+0200
TZOFFSETTO:+0100
TZNAME:CET
DTSTART:20251026T010000
END:STANDARD
BEGIN:DAYLIGHT
TZOFFSETFROM:+0100
TZOFFSETTO:+0200
TZNAME:CEST
DTSTART:20260329T010000
END:DAYLIGHT
BEGIN:STANDARD
TZOFFSETFROM:+0200
TZOFFSETTO:+0100
TZNAME:CET
DTSTART:20261025T010000
END:STANDARD
END:VTIMEZONE
BEGIN:VEVENT
DTSTART;TZID=Europe/Bratislava:20251001T160000
DTEND;TZID=Europe/Bratislava:20251001T193000
DTSTAMP:20260425T184018
CREATED:20250924T142733Z
LAST-MODIFIED:20250924T143003Z
UID:2880-1759334400-1759347000@www.vitaja.sk
SUMMARY:SebaLab – Laboratórium vnútorného rastu
DESCRIPTION:Ako uzdraviť svoj vzťah s matkou / dcérou? \nNajdôležitejší vzťah nášho života je vzťah k sebe.  \nS jeho vytváraním začína naša mama. Matka a jej reakcie sú prvým odrazom\, ktorý o sebe dostávame ako deti. \nVzťah s matkou formuje základ sebahodnotenia\, vnútorného dialógu a schopnosti dôverovať vlastným pocitom. \nVzťah k sebe a vzťah k druhým ľuďom môžeme zlepšiť  cez porozumenie vzťahu s matkou. \nPridajte sa k „Výzve do Vianoc“: \nPráve teraz na jeseň štartujeme koučingový transformačný program pre ženy:  \n„Začni inak – Ako uzdraviť vzťah s matkou / dcérou“. \nPripravili sme rozvojový program\, ktorý Vám prinesie priestor na zmenu aj inšpiráciu: \n\n1.10. 2025\n\n(Ne)Porozumenie a čo si (ne)hovoríme s mamou/dcérou\n\n\n15.10. 2025 –\n\nOdvaha pozrieť sa do zrkadla ženského rodu\n\n\n29.10. 2025\n\nMúzeum presvedčení – ktoré sú (ne)užitočné\n\n\n12.11. 2025\n\n(Od)Pustiť – (ne)chceme alebo (ne)dokážeme\n\n\n26.11. 2025\n\nVďačnosť a radosť – (ne)vieme ju prejaviť\n\n\n10.12. 2025\n\n(Ne)Pohodové Vianoce – plné očakávania (ne)viditeľných darov\n\n\n\n📅 Začíname 1.10.2025 16:00-19:30 \nKreatívne centrum Vitaja  Gunduličova 8 Bratislava \n👉Mám záujem \n 
URL:https://www.vitaja.sk/udalost/sebalab-laboratorium-vnutorneho-rastu-3/
LOCATION:Kreatívne centrum Vitaja\, Gunduličova 8\, Bratislava\, Slovakia (Slovak Republic)
CATEGORIES:SebaLab
ATTACH;FMTTYPE=image/jpeg:https://www.vitaja.sk/wp-content/uploads/2025/09/FB_1.jpg
ORGANIZER;CN="Meno oraganiz%C3%A1tora":MAILTO:email@organizatora.sk
END:VEVENT
END:VCALENDAR